5.00
0.0
0.0
-5.00
176290
146042
