5.00
0.0
0.0
-5.00
165561
159960
