5.00
0.0
0.0
-5.00
170768
111367
