5.00
0.0
0.0
-5.00
197870
146009
