5.00
0.0
0.0
-5.00
225112
62788
