5.00
0.0
0.0
-5.00
203279
118255
