5.00
0.0
0.0
-5.00
225133
55850
