5.00
0.0
0.0
-5.00
230591
55870
