5.00000000000000
0.00000000000000
0.00000000000000
-5.00000000000000
445652.50000000000000
4324222.50000000000000
