5.00000000000000
0.00000000000000
0.00000000000000
-5.00000000000000
451067.50000000000000
4324197.50000000000000
