5.00000000000000
0.00000000000000
0.00000000000000
-5.00000000000000
451097.50000000000000
4331132.50000000000000
