5.00000000000000
0.00000000000000
0.00000000000000
-5.00000000000000
451497.50000000000000
4393557.50000000000000
