5.00000000000000
0.00000000000000
0.00000000000000
-5.00000000000000
446162.50000000000000
4400517.50000000000000
