5.00000000000000
0.00000000000000
0.00000000000000
-5.00000000000000
451532.50000000000000
4400492.50000000000000
