5.00000000000000
0.00000000000000
0.00000000000000
-5.00000000000000
446232.50000000000000
4407452.50000000000000
