5.00000000000000
0.00000000000000
0.00000000000000
-5.00000000000000
451582.50000000000000
4407427.50000000000000
