5.00000000000000
0.00000000000000
0.00000000000000
-5.00000000000000
446262.50000000000000
4414392.50000000000000
