5.00000000000000
0.00000000000000
0.00000000000000
-5.00000000000000
451617.50000000000000
4414367.50000000000000
