5.00000000000000
0.00000000000000
0.00000000000000
-5.00000000000000
467047.50000000000000
4261697.50000000000000
