5.00000000000000
0.00000000000000
0.00000000000000
-5.00000000000000
472497.50000000000000
4261672.50000000000000
