5.00000000000000
0.00000000000000
0.00000000000000
-5.00000000000000
430162.50000000000000
4407577.50000000000000
