5.00000000000000
0.00000000000000
0.00000000000000
-5.00000000000000
456177.50000000000000
4268687.50000000000000
