5.00000000000000
0.00000000000000
0.00000000000000
-5.00000000000000
461627.50000000000000
4268657.50000000000000
