5.00000000000000
0.00000000000000
0.00000000000000
-5.00000000000000
456212.50000000000000
4275617.50000000000000
