5.00000000000000
0.00000000000000
0.00000000000000
-5.00000000000000
461662.50000000000000
4275592.50000000000000
