5.00000000000000
0.00000000000000
0.00000000000000
-5.00000000000000
445937.50000000000000
4365837.50000000000000
