5.00000000000000
0.00000000000000
0.00000000000000
-5.00000000000000
451322.50000000000000
4365812.50000000000000
