5.00000000000000
0.00000000000000
0.00000000000000
-5.00000000000000
445972.50000000000000
4372772.50000000000000
