5.00000000000000
0.00000000000000
0.00000000000000
-5.00000000000000
429542.50000000000000
4338212.50000000000000
