5.00000000000000
0.00000000000000
0.00000000000000
-5.00000000000000
429572.50000000000000
4345147.50000000000000
