5.00000000000000
0.00000000000000
0.00000000000000
-5.00000000000000
435287.50000000000000
4379777.50000000000000
