5.00000000000000
0.00000000000000
0.00000000000000
-5.00000000000000
440662.50000000000000
4379752.50000000000000
