5.00000000000000
0.00000000000000
0.00000000000000
-5.00000000000000
435317.50000000000000
4386712.50000000000000
