5.00000000000000
0.00000000000000
0.00000000000000
-5.00000000000000
440692.50000000000000
4386687.50000000000000
