5.00000000000000
0.00000000000000
0.00000000000000
-5.00000000000000
451237.50000000000000
4351937.50000000000000
