5.00000000000000
0.00000000000000
0.00000000000000
-5.00000000000000
445877.50000000000000
4358902.50000000000000
