5.00000000000000
0.00000000000000
0.00000000000000
-5.00000000000000
451267.50000000000000
4358877.50000000000000
