5.00000000000000
0.00000000000000
0.00000000000000
-5.00000000000000
434377.50000000000000
4268797.50000000000000
