5.00000000000000
0.00000000000000
0.00000000000000
-5.00000000000000
439827.50000000000000
4268772.50000000000000
