5.00000000000000
0.00000000000000
0.00000000000000
-5.00000000000000
434407.50000000000000
4275732.50000000000000
