5.00000000000000
0.00000000000000
0.00000000000000
-5.00000000000000
483397.50000000000000
4261632.50000000000000
