5.00000000000000
0.00000000000000
0.00000000000000
-5.00000000000000
434493.50000000000000
4282667.50000000000000
