5.00000000000000
0.00000000000000
0.00000000000000
-5.00000000000000
439932.50000000000000
4282647.50000000000000
