5.00000000000000
0.00000000000000
0.00000000000000
-5.00000000000000
434522.50000000000000
4289607.50000000000000
