5.00000000000000
0.00000000000000
0.00000000000000
-5.00000000000000
439962.50000000000000
4289582.50000000000000
