5.00000000000000
0.00000000000000
0.00000000000000
-5.00000000000000
445372.50000000000000
4282602.50000000000000
