5.00000000000000
0.00000000000000
0.00000000000000
-5.00000000000000
450817.50000000000000
4282577.50000000000000
