5.00000000000000
0.00000000000000
0.00000000000000
-5.00000000000000
445402.50000000000000
4289537.50000000000000
