5.00000000000000
0.00000000000000
0.00000000000000
-5.00000000000000
450847.50000000000000
4289512.50000000000000
