5.00000000000000
0.00000000000000
0.00000000000000
-5.00000000000000
488887.50000000000000
4289377.50000000000000
